BEGIN:VCALENDAR
VERSION:2.0
PRODID:-//geisterstadt.eu//Geisterstadt Konzert Kalender//DE
BEGIN:VEVENT
SUMMARY:Violent Weekend Pt.1
DTSTART;TZID=Europe/Berlin:20260327T180000
DTEND;TZID=Europe/Berlin:20260327T210000
DTSTAMP:20260225T140714Z
UID:201@geisterstadt.eu
DESCRIPTION:Rollwerk und Throatcutter68-Booking bringen euch:\n\nViolent W
 eekend!\n\nAm 27.03. und 28.03. gibt's die volle Ladung Beatdown/Hardcore.
 \n\nBringt eure Tanzschuhe mit\, denn wir haben für euch ganz tief in die
  Trickkiste gegriffen!\nMit dabei sind:\n\nChokeslam aus Süd-West Deutsch
 land! Hier verliert auch der letzte Jurastudent seine Gehirnzellen\, stump
 f ist Trumpf ist das Motto\n\nLongDrop aus Kasselfornien!\nPartystimmung u
 nd stumpfer Humor treffen auf ehrlichen Hardcore\n\nExtra aus der Schweiz 
 angereist hauen euch Wolfbite Caveman-Style Beatdown um die Ohren\, Kopf a
 us\, Adrenalin an!\n\nUnd natürlich die bei TC68 meist gewünschte Band a
 us dem Norden: Bartok37!\n\nGrooviger Hardcore\, mit Knallharten Fightriff
 s\nEskalation garantiert!\n\nSpecial Acts:\n27.03.\nThe Ashes We Breathe (
 Coremix)\n\n28.03.\nGouge (Metalcore/Hardcore)\nAntikörper (TC68-Straßen
 poesie)\nIra Mortis 🇨🇭(Beatdown)
LAST-MODIFIED:20260225T140714Z
LOCATION:Rollwerk\, Bahnhofsplatz 1 Gebäude A1\, Eingang A5\, 65428 Rüss
 elsheim
STATUS:CONFIRMED
URL:https://geisterstadt.eu/concerts/violen-weekend-pt1-chokeslam-longdrop
 -wolfbite-bartok37
END:VEVENT
END:VCALENDAR
