BEGIN:VCALENDAR
VERSION:2.0
PRODID:-//geisterstadt.eu//Geisterstadt Konzert Kalender//DE
BEGIN:VEVENT
SUMMARY:TimeXHeist + To the Wire
DTSTART;TZID=Europe/Berlin:20260511T190000
DTEND;TZID=Europe/Berlin:20260511T220000
DTSTAMP:20260421T140304Z
UID:410@geisterstadt.eu
DESCRIPTION:This one’s coming up fast! @timexheist will be back in Dresd
 en on May 11th\, alongside @tothewirehc at @cafe.pawlow.dresden. Spread th
 e word! Monday = Funday
LAST-MODIFIED:20260421T140304Z
LOCATION:Cafe Pawlow\, Görlitzerstrasse 34\, 01099 Dresden
STATUS:CONFIRMED
URL:https://geisterstadt.eu/concerts/timexheist-to-the-wire
END:VEVENT
END:VCALENDAR
