BEGIN:VCALENDAR
VERSION:2.0
PRODID:-//geisterstadt.eu//Geisterstadt Konzert Kalender//DE
BEGIN:VEVENT
SUMMARY:The Pissed Ones + Palma
DTSTART;TZID=Europe/Berlin:20260319T200000
DTEND;TZID=Europe/Berlin:20260319T230000
DTSTAMP:20260227T125909Z
UID:212@geisterstadt.eu
DESCRIPTION:THE PISSED ONES\,\nder vierköpfige\, schief frisierte Eltern-
  und Paukerschreck aus Dresden\, hat endlich die abgestandene Luft aus dem
  Proberaum soweit angereichert\, dass ein wirkliches Album dabei herausgek
 ommen ist\, und damit einen Baum in die Punkrock-Landschaft gestellt\, an 
 dem sich wohl so schnell keiner zu schuppern traut\, denn mit Schmauchspur
 en von LITTLE BOB STORY\, RIFF RAFF und THE DAMNED gibt 1976 auf dieser Pl
 atte noch einmal so eindrucksvoll Pfötchen\, dass dir vor Schreck die Nie
 ten aus der Lederjoppe platzen. (…)“ Es folgten mehrere Veröffentlich
 ungen. Ihre Bühnenerfahrung umfasst über 150 Konzerte\, inkl. Zwei Deuts
 chland- und zwei Europatouren sowie einem Konzert in London. Sie haben sic
 h bereits mit einschlägigen Szenegrößen wie THE DAMNED\, THE KIDS\, SHA
 M69\, THE VIBRATORS\, THE BRIEFS\, UK SUBS\, u.v.m. die Bühne teilen dür
 fen.
LAST-MODIFIED:20260227T125909Z
LOCATION:Dreikönigskeller\, Färberstraße 71\, 60594 Frankfurt am Main
STATUS:CONFIRMED
URL:https://geisterstadt.eu/concerts/the-pissed-ones-palma
END:VEVENT
END:VCALENDAR
