BEGIN:VCALENDAR
VERSION:2.0
PRODID:-//geisterstadt.eu//Geisterstadt Konzert Kalender//DE
BEGIN:VEVENT
SUMMARY:SPRINGE FEAST Day 2: Quest Master + Fief + Endonomos + Otras
DTSTART;TZID=Europe/Berlin:20260501T200000
DTEND;TZID=Europe/Berlin:20260501T230000
DTSTAMP:20260203T201420Z
UID:97@geisterstadt.eu
DESCRIPTION:ALLES NEU MACHT DER MAI! 🌷\n\nDamit sich die Schlinge der S
 ubkultur auch weiterhin um eure Stiernacken legt\, gibt's dieses Jahr mit 
 dem "Springe Feast" ein kleines Schmankerl zum bevorstehenden Frühling! 
 💐\n\n2 Tage - 3 packende Veranstaltungen: Show - Plattenbörse - Show! 
 🤯\n\nStartschuss ist am Donnerstag\, den 30. April im Burghauser Freize
 itheim mit dem ersten Viererpack der zweitägigen Feierei: FAZE aus Montre
 al\, VIOLET BLOOM aus Graz\, EXCEPTION aus Linz und STEEL DEAL aus Darmsta
 dt servieren euch feinsten Hardcore- & Punk-Mix\, ehe am nächsten Tag die
  zweite Auflage unserer DIY-Plattenbörse stattfindet! 💃🏼💿\n\nZum
  Abschluss gibt es noch ein Unwetter\, das euch den Scheitel lang zieht! I
 m einzig wahren Dungeon Bayerns geben sich Dungeon Synth-Kings QUEST MASTE
 R und FIEF mit dem Ösi-Doom Schwergewicht ENDONOMOS und dem Tschechisch/S
 lowakischen Black Metal/Punk-Bataillon OTRAS am Abend des 1. Mai's die Kli
 nke in die Hand. Da wird kein Auge trocken bleiben! 😵‍💫🥊\n\nAnm
 eldungen für die Plattenbörse werden per e-Mail angenommen. 📧📦\n\n
 Mehr Infos folgen in Kürze! 🪩\n\nEuer\n\nLightning Bird e.V. & Platten
 zimmer e.V.\n\n❤️❤️❤️\n\nFlyer (once again) by @tim.paschedag 
 🐶\n\n•••\n\n🦆SPRINGE FEAST⚔️\nDay 1 | 30. April @ Freizeit
 heim\n20:00 Uhr\nFAZE (Support: Violet Bloom\, Exception & Steel Deal)\n\n
 Day 2 | 01. Mai @ Freizeitheim\n10:00 Uhr - 17:00 Uhr\nPLATTENBÖRSE\n\nDa
 y 2 | 01. Mai @ Burgkeller-Bar\n20:00 Uhr\nQUEST MASTER (Support: Endonomo
 s\, Fief & Otras)
LAST-MODIFIED:20260203T201420Z
LOCATION:Burgkeller-Bar\, Stadtplatz 61\, 84489 Burghausen
STATUS:CONFIRMED
URL:https://geisterstadt.eu/concerts/springe-feast-day-2-quest-master-fief
 -endonomos-otras
END:VEVENT
END:VCALENDAR
