BEGIN:VCALENDAR
VERSION:2.0
PRODID:-//geisterstadt.eu//Geisterstadt Konzert Kalender//DE
BEGIN:VEVENT
SUMMARY:SPRINGE FEAST Day 1: FAZE\, Violet Bloom\, Exception & Steel Deal
DTSTART;TZID=Europe/Berlin:20260430T200000
DTEND;TZID=Europe/Berlin:20260430T230000
DTSTAMP:20260216T204825Z
UID:96@geisterstadt.eu
DESCRIPTION:🦞SPRINGE FEAST • DAY 1🪼\n\nZur Erstauflage unseres kle
 inen Frühlingsfestes in der Burghauser Altstadt kehren wir mal wieder in 
 das legendäre Freizeitheim zurück und servieren euch eine extrem schnell
 e Ladung voller Punk & Hardcore! 🎭\n\nIhr merkt schon\, Bands aus Montr
 éal haben es uns angetan. Und da unsere Freundschaft zu PUFFER und BETON 
 ARME irgendwann Wurzeln schlägt\, wird es auch Zeit\, dass wir FAZE in di
 e bayerischen Gefilde locken. 😊\n\nDas Quintett ist nach ihrer UK-Premi
 ere im Herbst nun auch auf dem Festland unterwegs und bringt alles mit\, u
 m euch die Synapsen auszuschalten. Wie heißt's auf einem T-Shirt der Kana
 dier so schön? "...you've been confused by Faze!" 🌀🌀🌀🌀\n\nSch
 neller Punk trifft rotzigen Hardcore trifft viel Hall und irgendwo nistet 
 sich noch eine Posaune ein. Klingt verrückt? Ist es auch! 🤸🏻\n\nMit
  dabei sind VIOLET BLOOM aus Graz\, Rhineline Rockers STEEL DEAL und Linz'
  neuestes Allstar-Projekt EXCEPTION (mit Hyperdog & Spiritual Law-Mitglied
 ern). 100% HC. 100% Coolness! 🎖️\n\nWenn das mal kein schöner Auftak
 t für ein Festwochenende wird! Winter\, hau ab jetzt! 👅\n\nMehr Infos 
 in Kürze!\n\nEuer\n\nLightning Bird e.V. & Plattenzimmer e.V.\n\n❤️
 ❤️\n\n•••\n\n🎭SPRINGE FEAST🤹🏼‍♀️\nDay 1 | 30. Apr
 il @ Freizeitheim\n20:00 Uhr\nFAZE (Support: Violet Bloom\, Exception & St
 eel Deal)\n\nDay 2 | 01. Mai @ Freizeitheim\n10:00 Uhr - 17:00 Uhr\nPLATTE
 NBÖRSE\n\nDay 2 | 01. Mai @ Burgkeller-Bar\n20:00 Uhr\nQUEST MASTER (Supp
 ort: Endonomos\, Fief & Otras)\n\n🎨 Flyer by Buenos Aires' finest @fede
 ricoinchausti\n\n📸 Pic by @arcanitestudios\n\n@fazemtl @11pmrecords @vi
 oletbloomhc @zeisomat @openxhead @steeldealhc @sttw_records @freizeitheimb
 gh
LAST-MODIFIED:20260216T204825Z
LOCATION:Freizeitheim\, Kapuzinergasse 227\, 84489 Burghausen
STATUS:CONFIRMED
URL:https://geisterstadt.eu/concerts/springe-feast-day-1-faze-violet-bloom
 -exception-steel-deal
END:VEVENT
END:VCALENDAR
