BEGIN:VCALENDAR
VERSION:2.0
PRODID:-//geisterstadt.eu//Geisterstadt Konzert Kalender//DE
BEGIN:VEVENT
SUMMARY:Split
DTSTART;TZID=Europe/Berlin:20260417T200000
DTEND;TZID=Europe/Berlin:20260417T230000
DTSTAMP:20260212T181012Z
UID:150@geisterstadt.eu
DESCRIPTION:(DE) Fächerstadt Hardcore präsentiert:\nDie erste CHILDREN O
 F THE GRAVE-Show 2026.\nAm 17. April besuchen uns SPLIT im Rahmen ihrer "A
 ll Power is Violence - Part II"-Tour. Für die Band aus Frankreich auch da
 s erste Konzert in Deutschland überhaupt. Auf die Ohren gibt's düsteren 
 Crust Hardcore Punk.\n\n(FR) Fächerstadt Hardcore présente:\nLe premier 
 concert de "Children of the Grave - Bookings" en 2026. Le 17 avril\, le gr
 oupe punk hardcore SPLIT donnera un concert à P8² Karlsruhe. C'est le pr
 emier concert en Allemagne pour le groupe français aussi.\n\n📅 Freitag
 \, 17. April 2026 / Vendredi\, 17 avril 2026\n🕗 Einlass/Portes: 20:00 -
  Beginn/Début: 21:00\n📍 @p8_karlsruhe\, Schauenburgstr. 5\, 76135 Karl
 sruhe
LAST-MODIFIED:20260212T181012Z
LOCATION:P8\, Schauenburgstraße 5\, 76135 Karlsruhe
STATUS:CONFIRMED
URL:https://geisterstadt.eu/concerts/split
END:VEVENT
END:VCALENDAR
