BEGIN:VCALENDAR
VERSION:2.0
PRODID:-//geisterstadt.eu//Geisterstadt Konzert Kalender//DE
BEGIN:VEVENT
SUMMARY:Ska im Westend
DTSTART;TZID=Europe/Berlin:20260514T140000
DTEND;TZID=Europe/Berlin:20260514T170000
DTSTAMP:20260420T184516Z
UID:388@geisterstadt.eu
DESCRIPTION:The Pioneers\nThe Upsessions\nThe Altones\nThe Modbirds\nMasca
 t\nAtemgold 09
LAST-MODIFIED:20260420T184516Z
LOCATION:Westpark\, Lange Straße 42\, 44137 Dortmund
STATUS:CONFIRMED
URL:https://geisterstadt.eu/concerts/ska-im-westend
END:VEVENT
END:VCALENDAR
