BEGIN:VCALENDAR
VERSION:2.0
PRODID:-//geisterstadt.eu//Geisterstadt Konzert Kalender//DE
BEGIN:VEVENT
SUMMARY:Puffer + Cold Spot + Kitsch
DTSTART;TZID=Europe/Berlin:20260529T200000
DTEND;TZID=Europe/Berlin:20260529T230000
DTSTAMP:20260413T155611Z
UID:322@geisterstadt.eu
DESCRIPTION:Massive Street Hassle at @oetingervilla Darmstadt! A night wit
 h Montreal Rockers @doyoupuff\, HC-Punks @coldspothc and feminist Punk/NDW
  gang @st.kitsch.\n\nDoors: 20 / Start: 21\nEntry U18: free / Over 18: fro
 m 12€
LAST-MODIFIED:20260413T155611Z
LOCATION:Oettinger Villa\, Kranichsteiner Str. 81\, 64289 Darmstadt
STATUS:CONFIRMED
URL:https://geisterstadt.eu/concerts/puffer-1
END:VEVENT
END:VCALENDAR
