BEGIN:VCALENDAR
VERSION:2.0
PRODID:-//geisterstadt.eu//Geisterstadt Konzert Kalender//DE
BEGIN:VEVENT
SUMMARY:Pressure Pact + Angstmäler + Placid + Chemical Threat
DTSTART;TZID=Europe/Berlin:20260418T193000
DTEND;TZID=Europe/Berlin:20260418T223000
DTSTAMP:20260216T205925Z
UID:170@geisterstadt.eu
DESCRIPTION:HARDCORE PUNK THE WAY WE LIKE TO DO IT\n\nRhineline Hardcore r
 eturns home to the legendary @sk_koblenz on the 18th of April 2026!!!\nWit
 h our friends from the Netherlands @pressurepact and Angstmaler\, @placidp
 unk from Luxembourg\, Koblenz and Frankfurt\, Chemical Threat from the sam
 e places and True Fraud from Cologne and Münster.\nBands will run fast\, 
 show should be done by about 22:00\, so you get the train home to wherever
  you live along the Rhineline... or Mosel!\n\nDoors: 19:30 (Bands might st
 art a little earlier than 20:00)\n\nAfter the Show @mellowmakedo and @ocea
 nskateboards will serve as DJ-Duo for the rest of the night with only the 
 best of Sixties Garage/Psych/Punk/HC/Wave.\n\nFlyer by @randinavian.jawbre
 aker
LAST-MODIFIED:20260216T205925Z
LOCATION:SK2\, Burgstraße 4\, 56068 Koblenz
STATUS:CONFIRMED
URL:https://geisterstadt.eu/concerts/pressure-pact-angstmaler-placid-chemi
 cal-threat
END:VEVENT
END:VCALENDAR
