BEGIN:VCALENDAR
VERSION:2.0
PRODID:-//geisterstadt.eu//Geisterstadt Konzert Kalender//DE
BEGIN:VEVENT
SUMMARY:Pempti Kasta + Chaos Chaussee + Illuminasty + L-Sura
DTSTART;TZID=Europe/Berlin:20260430T200000
DTEND;TZID=Europe/Berlin:20260430T230000
DTSTAMP:20260418T113802Z
UID:389@geisterstadt.eu
DESCRIPTION:Leipzig updated ‼️\n\nOn Thursday 30 April we head to one 
 of our favorite cities to play\, in the heart of Connewitz\, at Fischladen
  together with @chaos_chaussee \, Illuminasty and @l_sura_ 💥🐠\nNext 
 day is of course a strike / holiday so no excuses. Come drink with your fa
 vorite malakes 🍻\n\nStarts at 20:00\nBe on time and support all acts!\n
 \nPoster by @mitsos_halastras
LAST-MODIFIED:20260418T113802Z
LOCATION:Fischladen\, Dresdner Straße 49\, 04317 Leipzig
STATUS:CONFIRMED
URL:https://geisterstadt.eu/concerts/pempti-kasta-chaos-chaussee-illuminas
 ty-l-sura
END:VEVENT
END:VCALENDAR
