BEGIN:VCALENDAR
VERSION:2.0
PRODID:-//geisterstadt.eu//Geisterstadt Konzert Kalender//DE
BEGIN:VEVENT
SUMMARY:No Future + Das Gelbe vom Oi! + Hypaaktiv + Die Freezers
DTSTART;TZID=Europe/Berlin:20260509T193000
DTEND;TZID=Europe/Berlin:20260509T223000
DTSTAMP:20260418T113820Z
UID:383@geisterstadt.eu
DESCRIPTION:Diesmal geht es im JUZE etwas rauer zur Sache! Am Samstag den 
 09.05.26 gibt's Punk\, Oi\, Pogo und Bier!\n\nNO FUTURE eine der aufstrebe
 nsten Deutschpunk Bands der letzten Jahre! Mit Lieder gegen Kapitalismus\,
  Flüchtlingspolitik und blau-braune Idioten gibt's voll auf die 12! Live 
 eine absolute Wucht!\n\nDas gelbe vom Oi! Die Bierkiller aus dem Steigerwa
 ld spielen klassischen Oi mit einer guten Portion Punk. So ganz ernst nehm
 en sie sich dabei nicht\, so mischt sich dann auch immer mal Ironie in die
  Texte über Alkoholkonsum\, das Arbeiterleben\, Fußball\, Unity und nat
 ürlich Oi!\n\nHapyAktiv+ aus Nürnberg stehen für politischen Streetpunk
 /Hardcore Punk mit klaren Aussagen und ner Menge Wut. Ihre Songs kommen au
 f deutsch/englisch und obendrein auch größtenteils im Wechselgesang.\n\n
 Die Freezers bringen das Publikum schnell ins Schwitzen! Gute Laune\, Legg
 ins und Bier!\n\n📅Datum: 09.05.26 ⏰ Einlass: 19:30 Uhr 🕓 Beginn: 2
 0:30 Uhr\n\n🎟️ Vorverkauf: https://vvk-tickets.de/ticketshop/2026-05-
 09 💸 Vorverkauf: 10 € / Abendkasse: 15€\n\n\nTipp: Nutzt den Vorver
 kauf da die Anzahl der Tickets begrenzt sind.
LAST-MODIFIED:20260418T113820Z
LOCATION:JUZE\, Rederstraße 2\, 97616 Bad Neustadt (Saale)
STATUS:CONFIRMED
URL:https://geisterstadt.eu/concerts/no-future-das-gelbe-vom-oi-hypaaktiv-
 die-freezers
END:VEVENT
END:VCALENDAR
