BEGIN:VCALENDAR
VERSION:2.0
PRODID:-//geisterstadt.eu//Geisterstadt Konzert Kalender//DE
BEGIN:VEVENT
SUMMARY:Kauz of Affliction + Dead Pollys + The Heart Punches + N.T.Ä. + D
 onder
DTSTART;TZID=Europe/Berlin:20260517T190000
DTEND;TZID=Europe/Berlin:20260517T220000
DTSTAMP:20260423T181310Z
UID:425@geisterstadt.eu
DESCRIPTION:Ein Abend\, fünf Bands\, jede Menge Punk-Power! 📢\nAm 17. 
 Mai bringen wir die Pampa zum Beben mit:\n@kauz_of_affliction_official\n@d
 eadpollys\n@donderpunkrock\n@n.t.a._punk\n@theheartpunches\n​Lasst euch 
 das nicht entgehen. Einlass ab 19 Uhr\, Spendenbasis (10€ empfohlen). Wi
 r freuen uns auf euch! 🎟✨\n\n#Punk #Punkrock #Konzert #Coesfeld #Pamp
 a
LAST-MODIFIED:20260423T181310Z
LOCATION:Pampa\, Goxel 3\, 48653 Coesfeld
STATUS:CONFIRMED
URL:https://geisterstadt.eu/concerts/kauz-of-affliction-dead-pollys-the-he
 art-punches-nta-donder
END:VEVENT
END:VCALENDAR
