BEGIN:VCALENDAR
VERSION:2.0
PRODID:-//geisterstadt.eu//Geisterstadt Konzert Kalender//DE
BEGIN:VEVENT
SUMMARY:Freidenkeralarm + Deine Misere + Demojacke
DTSTART;TZID=Europe/Berlin:20260515T190000
DTEND;TZID=Europe/Berlin:20260515T220000
DTSTAMP:20260420T184517Z
UID:400@geisterstadt.eu
DESCRIPTION:FLAFLA\, WIR SIND ZURÜCK!\n\nam 15.05. sehen wir uns wieder. 
 und die spannung ist fast noch ein bisschen größer als sonst. denn es is
 t die erste show nach dem release unseres albums. also quasi release-konze
 rt. verrückt!\nwir freuen uns sehr\, uns die bühne an diesem abend mit @
 demojacke und @freidenkeralarmpunk zu teilen. und das nicht nur am freitag
 \, sondern auch am samstag im @beichezheinz hannover.\n\ndas wird ein fabe
 lhaftes wochenende und jeder abend ein fest 🖤\ndie stabilsten kommen na
 türlich an beiden abenden\, mindestens einer ist aber pflicht.\n\nwir bri
 ngen das album auch physisch auf cd mit. für die\, die mitleid mit uns ha
 ben\, weil vinylproduktion so teuer ist. aber neuen merch gibt's auch. all
 es diy natürlich. mit friends entworfen und selbst gedruckt.\n\nbis dahin
 \, leute. wir freuen uns wirklich sehr dolle!
LAST-MODIFIED:20260420T184517Z
LOCATION:SZ FlaFla\, Diebrocker Straße 2-4\, 32051 Herford
STATUS:CONFIRMED
URL:https://geisterstadt.eu/concerts/freidenkeralarm-deine-misere-demojack
 e
END:VEVENT
END:VCALENDAR
