BEGIN:VCALENDAR
VERSION:2.0
PRODID:-//geisterstadt.eu//Geisterstadt Konzert Kalender//DE
BEGIN:VEVENT
SUMMARY:First Act Night: Newcomerfestival
DTSTART;TZID=Europe/Berlin:20260509T200000
DTEND;TZID=Europe/Berlin:20260509T230000
DTSTAMP:20260418T113821Z
UID:396@geisterstadt.eu
DESCRIPTION:Die Bands der diesjährigen First Act Night stehen fest.\nIst 
 schon bald so weit - save the date!
LAST-MODIFIED:20260418T113821Z
LOCATION:Stattbahnhof\, Alte Bahnhofstraße 8-12\, 97422 Schweinfurt
STATUS:CONFIRMED
URL:https://geisterstadt.eu/concerts/first-act-night-newcomerfestival
END:VEVENT
END:VCALENDAR
