BEGIN:VCALENDAR
VERSION:2.0
PRODID:-//geisterstadt.eu//Geisterstadt Konzert Kalender//DE
BEGIN:VEVENT
SUMMARY:Das gute Hemd + Mrs. Anthrope + Rollsportgruppe
DTSTART;TZID=Europe/Berlin:20260321T190000
DTEND;TZID=Europe/Berlin:20260321T220000
DTSTAMP:20260219T140631Z
UID:179@geisterstadt.eu
DESCRIPTION:PAMPA IS BACK! 🤘🔥\n\nDer Winterschlaf ist vorbei! Wir st
 arten am 21.03. endlich in die Konzertsaison 2026. Zum ersten Konzert des 
 Jahres haben wir direkt drei fette Pakete für euch geschnürt:\n\n🎸 @m
 rs.anthrope\n🎸 @dasgutehemd Das gute Hemd\n🎸 @rollsportgruppe\n\nKom
 mt vorbei\, wir haben euch vermisst! Lasst uns Goxel direkt beim ersten Ma
 l dieses Jahr fachgerecht zerlegen. 💥\n\n📍 Wo: Goxel 3\, 48653 Coesf
 eld\n📅 Wann: 21.03.2026\n🕖 Einlass: 19:00 Uhr\n💰 Eintritt: Spende
 nbasis (Empfehlung: 10€)\n\nSupport your local scene! ✊
LAST-MODIFIED:20260219T140631Z
LOCATION:Pampa\, Goxel 3\, 48653 Coesfeld
STATUS:CONFIRMED
URL:https://geisterstadt.eu/concerts/das-gute-hemd-mrs-anthrope-rollsportg
 ruppe
END:VEVENT
END:VCALENDAR
