BEGIN:VCALENDAR
VERSION:2.0
PRODID:-//geisterstadt.eu//Geisterstadt Konzert Kalender//DE
BEGIN:VEVENT
SUMMARY:Angel CCAA + Ritualize
DTSTART;TZID=Europe/Berlin:20260506T200000
DTEND;TZID=Europe/Berlin:20260506T230000
DTSTAMP:20260418T113803Z
UID:398@geisterstadt.eu
DESCRIPTION:This May --> 🫵🏼👀🐶👼🏼🔥\n\nFür unsere Verh
 ältnisse sind wir bisschen spät dran mit der Ankündigung\, wir haben je
 doch keine Zweifel\, dass dies auch nur irgendein Problem darstellen könn
 te. 😛\n\nKöln's von Gott geküsste Lieblingsengel ANGEL CCAA gehen auf
  ihre erste Tour und steuern den Tourbus auch ins gelobte Hinterland. So i
 gnorant die vier Rheinländer gegenüber den aktuellen Spritpreisen auftre
 ten\, so huldigen sie auch allen Krachgrößen im punkigen HC. Die letztj
 ährige Debüt-EP ist Hammer\, das diesjährige Nachfolgewerk ebenso und l
 ive ist das alles sogar noch eine Schippe wilder - unserer Meinung nach. W
 ir haben sie ja schon gesehen\, hehe. 🪽🪽🪽\n\nMit dabei sind unser
 e Freunde von RITUALIZE aus Linz. Zum\nzweiten Mal nach 2 Jahren im Hinter
 land und angesichts der Vitae ihrer Mitglieder (HYPERDOG\, COMPETE\, SPIRI
 T DESIRE\, etc.) auch definitiv keine Unbekannten! That's what's up!!\n\n
 ⚠️📧Location gibt's nach Anmeldung unter lightningbirdev@gmail.com! 
 📧⚠️\n\n•••\n\n🎐ANGEL CCAA & RITUALIZE🪄\nWann: Mittwoch\
 , 6. Mai\nWo: Ask A Punk!/Private\, Burghausen\nBeginn: 20:00 Uhr\nReservi
 erung: lightningbirdev@gmail.com
LAST-MODIFIED:20260418T113803Z
LOCATION:Ask A Punk!/Private\, unbekannt\, unbekannt Burghausen
STATUS:CONFIRMED
URL:https://geisterstadt.eu/concerts/angel-ccaa-ritualize
END:VEVENT
END:VCALENDAR
